BEGIN:VCALENDAR
VERSION:2.0
PRODID:-//ChamberMaster//Event Calendar 2.0//EN
METHOD:PUBLISH
X-PUBLISHED-TTL:P3D
REFRESH-INTERVAL:P3D
CALSCALE:GREGORIAN
BEGIN:VEVENT
DTSTART:20100101T050000Z
DTEND:20100101T083000Z
X-MICROSOFT-CDO-ALLDAYEVENT:FALSE
SUMMARY:New Years Eve Party
DESCRIPTION:At the Keizer Renaissance Inn\, you'll celebrate the New Year?s arrival with a dinner & dessert buffet for two from 7:30pm-9pm\, dancing in the Ballroom from 8:30pm to 12:30am to Liquid Assets\,  party favors\, evening appetizer buffet\, \nand a midnight champagne toast.
X-ALT-DESC;FMTTYPE=text/html:At the Keizer Renaissance Inn\, you'll celebrate the New Year?s arrival with a dinner & dessert buffet for two from 7:30pm-9pm\, dancing in the Ballroom from 8:30pm to 12:30am to Liquid Assets\,  party favors\, evening appetizer buffet\, \nand a midnight champagne toast.  \n
LOCATION:Keizer Renaissance Inn
UID:e.63.2277
SEQUENCE:3
DTSTAMP:20260421T211152Z
URL:http://www.cm.keizerchamber.com/events/details/new-years-eve-party-12-31-2009-2277
END:VEVENT

END:VCALENDAR
