BEGIN:VCALENDAR
VERSION:2.0
PRODID:-//ChamberMaster//Event Calendar 2.0//EN
METHOD:PUBLISH
X-PUBLISHED-TTL:P3D
REFRESH-INTERVAL:P3D
CALSCALE:GREGORIAN
BEGIN:VEVENT
DTSTART;VALUE=DATE:20090627
DTEND;VALUE=DATE:20090628
TRANSP:TRANSPARENT
X-MICROSOFT-CDO-ALLDAYEVENT:TRUE
SUMMARY:Oregon 150 Picnic & Paddle
DESCRIPTION:An old fashion picnic and paddle scheduled for June 27th will commemorate Oregon's Sesquicentennial. What's more . Marion County 150 Miles for 150 Years Relay baton exchange will take place. Join the flotilla as we carry the baton by canoe down the Willamette River to a planned exchange with a St Paul representative. Paddlers are welcome to join the short float to the Wheatland Ferry or take the longer one to San Salvador.  Canoes and Kayaks will be available for a rental fee.  Bring you own picnic from 11am 1pm. Families\, dates\, or just good friends are encouraged to come out and watch the baton exchange and also enjoy music provided by the Keizer Community Band. Concessions also available. Make plans to join in the old fashion games and have a neighborly good time.
X-ALT-DESC;FMTTYPE=text/html:<div>&nbsp\;<span style="font-size: 10.3pt\; language: EN">An old fashion picnic and paddle scheduled for June 27th will commemorate Oregon&rsquo\;s Sesquicentennial. What&rsquo\;s more&hellip\;. </span><span style="font-weight: bold\; font-size: 10.3pt\; language: EN">Marion County 150 Miles for 150 Years Relay</span><span style="font-size: 10.3pt\; language: EN"> baton exchange will take place. Join the flotilla as we carry the baton by canoe down the Willamette River to a planned exchange with a St Paul representative. Paddlers are welcome to join the short float to the Wheatland Ferry or take the longer one to </span><span style="font-size: 10.3pt\; language: EN">San Salvador. </span><span style="font-size: 10.3pt\; language: EN">&nbsp\;Canoes and Kayaks will be available for a rental fee. </span></div><div>&nbsp\;</div><div><span style="font-size: 10.3pt\; language: EN">Bring you own picnic from 11am&mdash\;1pm. Families\, dates\, or just good friends are encouraged to come out and watch the baton exchange and also enjoy music provided by the Keizer Community Band. Concessions also available. Make plans to join in the old fashion games and have&nbsp\;a neighborly good time.&nbsp\;</span></div><div>&nbsp\;</div>
LOCATION:Keizer Rapids Park (very west end of Chemawa Rd) in Keizer
UID:e.63.1962
SEQUENCE:3
DTSTAMP:20260422T074233Z
URL:http://www.cm.keizerchamber.com/events/details/oregon-150-picnic-paddle-06-27-2009-1962
END:VEVENT

END:VCALENDAR
