BEGIN:VCALENDAR
VERSION:2.0
PRODID:-//ChamberMaster//Event Calendar 2.0//EN
METHOD:PUBLISH
X-PUBLISHED-TTL:P3D
REFRESH-INTERVAL:P3D
CALSCALE:GREGORIAN
BEGIN:VEVENT
DTSTART:20100729T233000Z
DTEND:20100730T033000Z
X-MICROSOFT-CDO-ALLDAYEVENT:FALSE
SUMMARY:OREGON PARALYZED VETERANS OF AMERICA KICK BOAT EVENT
DESCRIPTION:Rockin PVA We Kick Boat Event for the Paralyzed Veterans of America \n\nJuly 29\, 2010\, 4:30 to 8:30 pm \nPrudence Uncorked at Pringle Park Plaza \n325 High St SE \nSalem Oregon \nParty and sing with the Flextones Band\, bid on great live and silent auction items\, and enjoy food\, wine\, and beer knowing Prudence Uncorked will donate $1 for every plate and drink sold! Your $10 donation at the door goes directly to help the Paralyzed Veterans of America who served us so well. No reservations necessary---just come kick boat with us and show your support! Call Byron Loosli at 503-884-0017 for more information.
X-ALT-DESC;FMTTYPE=text/html:<div>Rockin PVA We Kick Boat Event for the Paralyzed Veterans of America <br /><br />July 29\, 2010\, 4:30 to 8:30 pm <br />Prudence Uncorked at Pringle Park Plaza <br />325 High St SE <br />Salem Oregon <br />Party and sing with the Flextones Band\, bid on great live and silent auction items\, and enjoy food\, wine\, and beer knowing Prudence Uncorked will donate $1 for every plate and drink sold! Your $10 donation at the door goes directly to help the Paralyzed Veterans of America who served us so well. No reservations necessary---just come kick boat with us and show your support! Call Byron Loosli at 503-884-0017 for more information. <br />&nbsp\;</div>
LOCATION:Prudence Uncorked at Pringle Park Plaza 325 High St SE Salem Oregon
UID:e.63.2361
SEQUENCE:3
DTSTAMP:20260421T120606Z
URL:http://www.cm.keizerchamber.com/events/details/oregon-paralyzed-veterans-of-america-kick-boat-event-07-29-2010-2361
END:VEVENT

END:VCALENDAR
