BEGIN:VCALENDAR
VERSION:2.0
PRODID:-//ChamberMaster//Event Calendar 2.0//EN
METHOD:PUBLISH
X-PUBLISHED-TTL:P3D
REFRESH-INTERVAL:P3D
CALSCALE:GREGORIAN
BEGIN:VEVENT
DTSTART:20100718T173000Z
DTEND:20100718T183000Z
X-MICROSOFT-CDO-ALLDAYEVENT:FALSE
SUMMARY:Patriotic Parade - A Good Vibrations Welcome Event
DESCRIPTION:Its Parade time again! Bring the family and enjoy watching many different motorcycles as they make their way down River Road. Join Keizer as we welcome a 1000 plus motorcycles to the area particpating in the Good Vibrations Road Show. As one of their final events a Patriotic Parade of motorcycles will take place on Sunday July 18th. Youth groups are invited to pick up American stick flags at the Chamber office to wave as the group heads south on River Road. Don't miss out on this family friendly event.
X-ALT-DESC;FMTTYPE=text/html:<div>Its Parade time again! Bring the family and enjoy watching&nbsp\;many different motorcycles as they make their way down River Road.</div><div>&nbsp\;</div><div>Join Keizer as we welcome a 1000 plus motorcycles to the area particpating in the Good Vibrations Road Show. As one of their final events a Patriotic Parade of motorcycles will take place on Sunday July 18th. Youth groups are invited to pick up American stick flags at the Chamber office to wave as the group heads south on River Road.</div><div>&nbsp\;</div><div>Don't miss out on this family friendly event.</div>
LOCATION:Motorcycles will stage on Wittenberg Lane.Parade will start at Chemawa Rd & River Rd heading south to Salem's River Front Park
UID:e.63.2359
SEQUENCE:3
DTSTAMP:20260421T120255Z
URL:http://www.cm.keizerchamber.com/events/details/patriotic-parade-a-good-vibrations-welcome-event-07-18-2010-2359
END:VEVENT

END:VCALENDAR
