BEGIN:VCALENDAR
VERSION:2.0
PRODID:-//ChamberMaster//Event Calendar 2.0//EN
METHOD:PUBLISH
X-PUBLISHED-TTL:P3D
REFRESH-INTERVAL:P3D
CALSCALE:GREGORIAN
BEGIN:VEVENT
DTSTART:20090804T230000Z
DTEND:20090804T233000Z
X-MICROSOFT-CDO-ALLDAYEVENT:FALSE
SUMMARY:Ribbon Cutting Ceremony at Beltone Oregon
DESCRIPTION:Beltone Oregon\, a new Chamber member is having a Ribbon Cutting Ceremony to celebrate their business! Show your support by joining the crew at Beltone Oregon and help them celebrate. Tour their facility and enjoy some great networking. We hope to see you there!
X-ALT-DESC;FMTTYPE=text/html:<div>Beltone Oregon\, a new Chamber member&nbsp\;is having a Ribbon Cutting Ceremony to celebrate their business!</div><div>&nbsp\;</div><div>Show your support by joining the crew at Beltone Oregon&nbsp\;and help them celebrate. Tour their facility and enjoy some great networking.</div><div>&nbsp\;</div><div>We hope to see you there!</div>
LOCATION:Beltone Oregon4902 River Rd NKeizer\, Oregon
UID:e.63.2246
SEQUENCE:3
DTSTAMP:20260422T042113Z
URL:http://www.cm.keizerchamber.com/events/details/ribbon-cutting-ceremony-at-beltone-oregon-08-04-2009-2246
END:VEVENT

END:VCALENDAR
