BEGIN:VCALENDAR
VERSION:2.0
PRODID:-//ChamberMaster//Event Calendar 2.0//EN
METHOD:PUBLISH
X-PUBLISHED-TTL:P3D
REFRESH-INTERVAL:P3D
CALSCALE:GREGORIAN
BEGIN:VEVENT
DTSTART:20091023T233000Z
DTEND:20091024T000000Z
X-MICROSOFT-CDO-ALLDAYEVENT:FALSE
SUMMARY:Ribbon Cutting Ceremony at Clipfell Photography
DESCRIPTION:Come help celebrate with new Chamber Member Clipfell Photography at their Ribbon Cutting Ceremony\, located at 5605 Inland Shores Way\, Suite 110 in Keizer. This is a wonderful opportunity to come meet Robyn Clipfell\, check out her business and find out what her business is all about. We hope to see you there\, helping to support your local Chamber member!
X-ALT-DESC;FMTTYPE=text/html:<div>Come help celebrate with new Chamber Member&nbsp\;Clipfell Photography&nbsp\;at their Ribbon Cutting Ceremony\, located at 5605 Inland Shores Way\,&nbsp\;Suite 110 in&nbsp\;Keizer.</div><div>&nbsp\;</div><div>This is a wonderful opportunity to come&nbsp\;meet Robyn Clipfell\,&nbsp\;check out&nbsp\;her business and find out what&nbsp\;her business is&nbsp\;all about. We hope to see you there\, helping to support your local Chamber member!</div><div>&nbsp\;</div><div>&nbsp\;</div>
LOCATION:Clipfell Photography5605 Inland Shores Way Suite 110Keizer\, Oregon
UID:e.63.2273
SEQUENCE:3
DTSTAMP:20260422T013433Z
URL:http://www.cm.keizerchamber.com/events/details/ribbon-cutting-ceremony-at-clipfell-photography-10-23-2009-2273
END:VEVENT

END:VCALENDAR
