BEGIN:VCALENDAR
VERSION:2.0
PRODID:-//ChamberMaster//Event Calendar 2.0//EN
METHOD:PUBLISH
X-PUBLISHED-TTL:P3D
REFRESH-INTERVAL:P3D
CALSCALE:GREGORIAN
BEGIN:VEVENT
DTSTART:20091021T163000Z
DTEND:20091021T170000Z
X-MICROSOFT-CDO-ALLDAYEVENT:FALSE
SUMMARY:Ribbon Cutting Ceremony at Eggert & Heslinga
DESCRIPTION:Come help celebrate with new Chamber Member Eggert & Heslinga at their Ribbon Cutting Ceremony\, located at 3700 River Rd N Keizer. This is a wonderful opportunity to come meet Christopher Eggert & Mark Heslinga\, check out their business and find out what they're all about. We hope to see you there\, helping to support your local Chamber member!
X-ALT-DESC;FMTTYPE=text/html:<div>Come help celebrate with new Chamber Member Eggert &amp\;&nbsp\;Heslinga at their Ribbon Cutting Ceremony\, located at 3700 River Rd N&nbsp\;Keizer.</div><div>&nbsp\;</div><div>This is a wonderful opportunity to come&nbsp\;meet Christopher Eggert &amp\;&nbsp\;Mark Heslinga\,&nbsp\;check out their business and find out what they're all about. We hope to see you there\, helping to support your local Chamber member!</div><div>&nbsp\;</div><div>&nbsp\;</div>
LOCATION:Eggert & Heslinga3700 River Rd NKeizer\, Oregon
UID:e.63.2271
SEQUENCE:3
DTSTAMP:20260422T013840Z
URL:http://www.cm.keizerchamber.com/events/details/ribbon-cutting-ceremony-at-eggert-heslinga-10-21-2009-2271
END:VEVENT

END:VCALENDAR
