BEGIN:VCALENDAR
VERSION:2.0
PRODID:-//ChamberMaster//Event Calendar 2.0//EN
METHOD:PUBLISH
X-PUBLISHED-TTL:P3D
REFRESH-INTERVAL:P3D
CALSCALE:GREGORIAN
BEGIN:VEVENT
DTSTART:20100818T160000Z
DTEND:20100818T163000Z
X-MICROSOFT-CDO-ALLDAYEVENT:FALSE
SUMMARY:Ribbon Cutting Ceremony at Platinum Sports & Fitness
DESCRIPTION:Come help celebrate with new Chamber Member Platinum Sports & Fitness at their Ribbon Cutting Ceremony\, located at 3850 River Rd N Keizer. This is a wonderful opportunity to come meet the staff\, check out the business and find out what they're all about. Refreshments will be provided during Greeters Spotlight where they will be the host from from 8-9am. We hope to see you there\, helping to support your local Chamber member!
X-ALT-DESC;FMTTYPE=text/html:<div>Come help celebrate with new Chamber Member&nbsp\;Platinum Sports &amp\; Fitness&nbsp\;at their Ribbon Cutting Ceremony\, located at&nbsp\;3850 River&nbsp\;Rd N&nbsp\;Keizer.</div><div>&nbsp\;</div><div>This is a wonderful opportunity to come&nbsp\;meet&nbsp\;the staff\,&nbsp\;check out&nbsp\;the business and find out what they&rsquo\;re all about. Refreshments will be provided&nbsp\;during Greeters&nbsp\;Spotlight where they will be the host from from 8-9am.</div><div>&nbsp\;</div><div>We hope to see you there\, helping to support your local Chamber member!</div><div>&nbsp\;</div><div>&nbsp\;</div><div>&nbsp\;</div><div>&nbsp\;</div>
LOCATION:Platinum Sports & Fitness3850 River Rd NKeizer\, Oregon
UID:e.63.2363
SEQUENCE:3
DTSTAMP:20260421T110931Z
URL:http://www.cm.keizerchamber.com/events/details/ribbon-cutting-ceremony-at-platinum-sports-fitness-08-18-2010-2363
END:VEVENT

END:VCALENDAR
