BEGIN:VCALENDAR
VERSION:2.0
PRODID:-//ChamberMaster//Event Calendar 2.0//EN
METHOD:PUBLISH
X-PUBLISHED-TTL:P3D
REFRESH-INTERVAL:P3D
CALSCALE:GREGORIAN
BEGIN:VEVENT
DTSTART:20100723T233000Z
DTEND:20100724T003000Z
X-MICROSOFT-CDO-ALLDAYEVENT:FALSE
SUMMARY:Ribbon Cutting Ceremony at Tangled Ends Hair Academy
DESCRIPTION:Come help celebrate with new Chamber Member Tangled Ends Hair Academy at their Ribbon Cutting Ceremony\, located at 136 Chemawa Rd NE Keizer. This is a wonderful opportunity to come meet the staff\, check out the business and find out what they're all about. Refreshments will be provided. We hope to see you there\, helping to support your local Chamber member!
X-ALT-DESC;FMTTYPE=text/html:<div>Come help celebrate with new Chamber Member&nbsp\;Tangled Ends Hair Academy&nbsp\;at their Ribbon Cutting Ceremony\, located at 136 Chemawa Rd NE&nbsp\;Keizer.</div><div>&nbsp\;</div><div>This is a wonderful opportunity to come&nbsp\;meet&nbsp\;the staff\,&nbsp\;check out&nbsp\;the business and find out what they&rsquo\;re all about. Refreshments will be provided.</div><div>&nbsp\;</div><div>We hope to see you there\, helping to support your local Chamber member!</div><div>&nbsp\;</div><div>&nbsp\;</div>
LOCATION:Tangled Ends Hair Academy136 Chemawa Rd NEKeizer\, Oregon
UID:e.63.2352
SEQUENCE:3
DTSTAMP:20260421T120510Z
URL:http://www.cm.keizerchamber.com/events/details/ribbon-cutting-ceremony-at-tangled-ends-hair-academy-07-23-2010-2352
END:VEVENT

END:VCALENDAR
