BEGIN:VCALENDAR
VERSION:2.0
PRODID:-//ChamberMaster//Event Calendar 2.0//EN
METHOD:PUBLISH
X-PUBLISHED-TTL:P3D
REFRESH-INTERVAL:P3D
CALSCALE:GREGORIAN
BEGIN:VEVENT
DTSTART:20080612T233000Z
DTEND:20080613T000000Z
X-MICROSOFT-CDO-ALLDAYEVENT:FALSE
SUMMARY:Ribbon Cutting Ceremony at Willamette Technical
DESCRIPTION:A Ribbon Cutting Ceremony will be held at Willamette Technical in Salem Willamette Technical recently moved from Keizer to Salem. Come help Brian and the crew at Willamette Technicals celebrate their new office.
X-ALT-DESC;FMTTYPE=text/html:<div>A Ribbon Cutting Ceremony will be held at Willamette Technical in Salem</div><div>&nbsp\;</div><div>Willamette Technical recently moved from Keizer to Salem. Come help Brian and the crew at Willamette Technicals celebrate their new office.</div>
LOCATION:Willamette Technical5680 Commercial St SESalem\, Oregon
UID:e.63.1728
SEQUENCE:3
DTSTAMP:20260423T022437Z
URL:http://www.cm.keizerchamber.com/events/details/ribbon-cutting-ceremony-at-willamette-technical-06-12-2008-1728
END:VEVENT

END:VCALENDAR
