BEGIN:VCALENDAR
VERSION:2.0
PRODID:-//ChamberMaster//Event Calendar 2.0//EN
METHOD:PUBLISH
X-PUBLISHED-TTL:P3D
REFRESH-INTERVAL:P3D
CALSCALE:GREGORIAN
BEGIN:VEVENT
DTSTART:20080320T230000Z
DTEND:20080321T020000Z
X-MICROSOFT-CDO-ALLDAYEVENT:FALSE
SUMMARY:Rich Duncan Construction Ribbon Cutting & Grand Opening Celebration
DESCRIPTION:Rich Duncan Construction has moved to a new location. They are celebrating with a Grand Opening from 4-7pm and a Ribbon Cutting Ceremony at 5:00pm Come on over and and show your support. Help Rich Duncan and his crew celebrate!
X-ALT-DESC;FMTTYPE=text/html:<div>Rich Duncan Construction has moved to a new location.</div><div>&nbsp\;</div><div>They are celebrating with a Grand Opening from 4-7pm and a Ribbon Cutting Ceremony at 5:00pm</div><div>&nbsp\;</div><div>Come on over and and show your support. Help Rich Duncan and his crew celebrate!</div>
LOCATION:Rich Duncan Construction200 Hawthorne Ave Ste A-130Salem\, Oregon
UID:e.63.1709
SEQUENCE:3
DTSTAMP:20260423T065252Z
URL:http://www.cm.keizerchamber.com/events/details/rich-duncan-construction-ribbon-cutting-grand-opening-celebration-03-20-2008-1709
END:VEVENT

END:VCALENDAR
