BEGIN:VCALENDAR
VERSION:2.0
PRODID:-//ChamberMaster//Event Calendar 2.0//EN
METHOD:PUBLISH
X-PUBLISHED-TTL:P3D
REFRESH-INTERVAL:P3D
CALSCALE:GREGORIAN
BEGIN:VEVENT
DTSTART:20070919T020000Z
DTEND:20070919T033000Z
X-MICROSOFT-CDO-ALLDAYEVENT:FALSE
SUMMARY:Salem - Keizer Transit Center Information Meeting
DESCRIPTION:Cherriots is looking into options for a Keizer Transit Center to facilitate more effective public transportation in the Keizer area.  Be involved in the planning & placement discussion by joining us at McNary High School @ 7pm on the 18th of September!
X-ALT-DESC;FMTTYPE=text/html:<div>Cherriots is looking into options for a Keizer Transit Center to facilitate more effective public transportation in the Keizer area.&nbsp\; Be involved in the planning &amp\; placement discussion by joining us at McNary High School @ 7pm on the 18th of September!</div>
LOCATION:
UID:e.63.1430
SEQUENCE:3
DTSTAMP:20260423T145554Z
URL:http://www.cm.keizerchamber.com/events/details/salem-keizer-transit-center-information-meeting-09-18-2007-1430
END:VEVENT

END:VCALENDAR
