BEGIN:VCALENDAR
VERSION:2.0
PRODID:-//ChamberMaster//Event Calendar 2.0//EN
METHOD:PUBLISH
X-PUBLISHED-TTL:P3D
REFRESH-INTERVAL:P3D
CALSCALE:GREGORIAN
BEGIN:VEVENT
DTSTART:20090723T020000Z
DTEND:20090723T070000Z
X-MICROSOFT-CDO-ALLDAYEVENT:FALSE
SUMMARY:Sam Bush and the Grascals at Oregon Garden
DESCRIPTION:Enjoy the music of Sam Bush and the Grascals in the Oregon Garden Amphitheater.
X-ALT-DESC;FMTTYPE=text/html:Enjoy the music of Sam Bush and the Grascals in the Oregon Garden Amphitheater.
LOCATION:The Oregon Garden 879 W Main St Silverton
UID:e.63.1972
SEQUENCE:3
DTSTAMP:20260422T060214Z
URL:http://www.cm.keizerchamber.com/events/details/sam-bush-and-the-grascals-at-oregon-garden-07-22-2009-1972
END:VEVENT

END:VCALENDAR
