BEGIN:VCALENDAR
VERSION:2.0
PRODID:-//ChamberMaster//Event Calendar 2.0//EN
METHOD:PUBLISH
X-PUBLISHED-TTL:P3D
REFRESH-INTERVAL:P3D
CALSCALE:GREGORIAN
BEGIN:VEVENT
DTSTART:20100425T020000Z
DTEND:20100425T040000Z
X-MICROSOFT-CDO-ALLDAYEVENT:FALSE
SUMMARY:Stardust Ball
DESCRIPTION:A night of Jazz music performed by the local middle schools and high school.  Come dance\, enjoy music and visit with your neighbors and friends.  There will be a raffle.  Support your future\, music\, and the bands!!
X-ALT-DESC;FMTTYPE=text/html:<div><span style="font-family: Comic Sans MS"><span style="font-size: xx-small">A night of Jazz music performed by the local middle schools and high school.</span></span>&nbsp\;<span style="font-family: Comic Sans MS"><span style="font-size: xx-small"> Come dance\, enjoy music and visit with your neighbors and friends.&nbsp\; There will be a raffle.&nbsp\; Support your future\, music\, and the bands!!</span></span></div><div>&nbsp\;</div>
LOCATION:McNary High School Cafeteria
UID:e.63.2311
SEQUENCE:3
DTSTAMP:20260421T163933Z
URL:http://www.cm.keizerchamber.com/events/details/stardust-ball-04-24-2010-2311
END:VEVENT

END:VCALENDAR
