BEGIN:VCALENDAR
VERSION:2.0
PRODID:-//ChamberMaster//Event Calendar 2.0//EN
METHOD:PUBLISH
X-PUBLISHED-TTL:P3D
REFRESH-INTERVAL:P3D
CALSCALE:GREGORIAN
BEGIN:VEVENT
DTSTART:20090318T003000Z
DTEND:20090317T190000Z
X-MICROSOFT-CDO-ALLDAYEVENT:FALSE
SUMMARY:Texas Hold'em Tournament
DESCRIPTION:Try your luck at the St. Paddy's Day Texas Hold'em Tournament.Put on your game face and save the date! Celebrate St. Paddy's day with a hold'em tournament held at MiNa's at McNary on Tuesday March 17th.Registration begins at 5:30 pm with tournament play at 6:00 pm. $50 buy in gets you $1500 in chips with an option to re-buy. There are two re-buys available at $25 each which get you an additional $1000 in chips. You can register and purchase your re-buys right away\, or you can wait till you need them.Many great cash prizes will be given away along with Keizer's Coveted Poker Bracelet. Your buy in price includes hospitality appetizers and Dutch Brothers coffee. A no host bar is also available. Seating is limited so don't wait. Call the Chamber to sign up and reserve your seat\, or register and pay online below.We look forward to another fun filled event!
X-ALT-DESC;FMTTYPE=text/html:<p>Try your luck at the St. Paddy's Day Texas Hold'em Tournament.</p><p>Put on your game face and save the date! Celebrate St. Paddy's day with a hold'em tournament held at MiNa's at McNary on Tuesday March 17th.</p><p>Registration begins at 5:30 pm with tournament play at 6:00 pm. $50 buy in gets you $1500 in chips with an option to re-buy. There are two re-buys available at $25 each which get you an additional $1000 in chips. You can register and purchase your re-buys right away\, or you can wait till you need them.</p><p>Many great cash prizes will be given away along with Keizer's Coveted Poker Bracelet. Your buy in price includes hospitality appetizers and Dutch Brothers coffee. A no host bar is also available. Seating is limited so don't wait. Call the Chamber to sign up and reserve your seat\, or register and pay online below.</p><p>We look forward to another fun filled event!</p>
LOCATION:MiNa's at McNary165 McNary Estates DrKeizer\, Oregon
UID:e.63.1937
SEQUENCE:3
DTSTAMP:20260422T123637Z
URL:http://www.cm.keizerchamber.com/events/details/texas-hold-em-tournament-03-17-2009-1937
END:VEVENT

END:VCALENDAR
