BEGIN:VCALENDAR
VERSION:2.0
PRODID:-//ChamberMaster//Event Calendar 2.0//EN
METHOD:PUBLISH
X-PUBLISHED-TTL:P3D
REFRESH-INTERVAL:P3D
CALSCALE:GREGORIAN
BEGIN:VEVENT
DTSTART:20090710T020000Z
DTEND:20090710T050000Z
X-MICROSOFT-CDO-ALLDAYEVENT:FALSE
SUMMARY:Three Dog Night at Oregon Garden
DESCRIPTION:Enjoy the music of Three Dog night in the Oregon Garden amphitheater
X-ALT-DESC;FMTTYPE=text/html:Enjoy the music of Three Dog night in the Oregon Garden amphitheater
LOCATION:The Oregon Garden
UID:e.63.1971
SEQUENCE:3
DTSTAMP:20260422T060144Z
URL:http://www.cm.keizerchamber.com/events/details/three-dog-night-at-oregon-garden-07-09-2009-1971
END:VEVENT

END:VCALENDAR
