BEGIN:VCALENDAR
VERSION:2.0
PRODID:-//ChamberMaster//Event Calendar 2.0//EN
METHOD:PUBLISH
X-PUBLISHED-TTL:P3D
REFRESH-INTERVAL:P3D
CALSCALE:GREGORIAN
BEGIN:VEVENT
DTSTART:20100130T180000Z
DTEND:20100131T010000Z
X-MICROSOFT-CDO-ALLDAYEVENT:FALSE
SUMMARY:Winter Art Solstice
DESCRIPTION:Join the festivities at the Winter Art Solstice atKeizer Civic Center930 Chemawa Rd NEKeizer\, Oregon 10:00 am - 5:00 pm Winter Art Solstice 2:00 pm Community Celebration\, Keizer History Exhibit Opens 2:30 pm Thomas Dove Keizur Statue Unveiling Ceremony 3:00 pm Chili Feed 5:00 pm Doors Close This is a two day event\, beginning on Friday January 29th.
X-ALT-DESC;FMTTYPE=text/html:<div style="text-align: center"><span style="font-size: small">Join the festivities at the </span><strong><span style="font-size: small">Winter Art Solstice </span></strong><span style="font-size: small">at</span></div><div style="text-align: center"><span style="font-size: small">Keizer Civic Center</span></div><div style="text-align: center"><span style="font-size: small">930 Chemawa Rd NE</span></div><div style="text-align: center"><span style="font-size: small">Keizer\, Oregon</span></div><div style="text-align: center">&nbsp\;</div><div style="text-align: center"><em><strong>10:00 am - 5:00 pm </strong></em></div><div style="text-align: center">Winter Art Solstice</div><div style="text-align: center">&nbsp\;</div><div style="text-align: center"><em><strong>2:00 pm </strong></em></div><div style="text-align: center">Community Celebration\, Keizer History Exhibit Opens</div><div style="text-align: center">&nbsp\;</div><div style="text-align: center"><em><strong>2:30 pm </strong></em></div><div style="text-align: center">Thomas Dove Keizur Statue Unveiling Ceremony</div><div style="text-align: center">&nbsp\;</div><div style="text-align: center"><em><strong>3:00 pm </strong></em></div><div style="text-align: center">Chili Feed</div><div style="text-align: center">&nbsp\;</div><div style="text-align: center"><em><strong>5:00 pm </strong></em></div><div style="text-align: center">Doors Close</div><div style="text-align: center">&nbsp\;</div><div style="text-align: center">This is a two day event\, beginning on Friday January 29th.</div><div style="text-align: center">&nbsp\;</div><div style="text-align: center">&nbsp\;</div><div style="text-align: center">&nbsp\;</div>
LOCATION:Keizer Civic Center930 Chemawa Rd NEKeizer\, Oregon
UID:e.63.2289
SEQUENCE:3
DTSTAMP:20260421T211509Z
URL:http://www.cm.keizerchamber.com/events/details/winter-art-solstice-01-30-2010-2289
END:VEVENT

END:VCALENDAR
